BEGIN:VCALENDAR
VERSION:2.0
PRODID:-//Tukios.com/
BEGIN:VEVENT
UID:51996f8d-8123-4605-9a5f-384cf606e961@www.edenmemorial.com
DTSTAMP:20260422T211705Z
DTSTART:20260423T170000Z
DTEND:20260423T180000Z
SUMMARY:Graveside Service
DESCRIPTION:
URL:https://www.edenmemorial.com/obituaries/suzanne-jacobowitz
LOCATION: 12 Market Street  Saddle Brook NJ 07663
GEO:40.8950717;-74.0799755
END:VEVENT
END:VCALENDAR