BEGIN:VCALENDAR
VERSION:2.0
PRODID:-//Tukios.com/
BEGIN:VEVENT
UID:a286b61f-2e36-4fcc-b2ed-325b39d2c261@www.edenmemorial.com
DTSTAMP:20260422T202732Z
DTSTART:20260423T184500Z
DTEND:20260423T194500Z
SUMMARY:Funeral Service
DESCRIPTION:
URL:https://www.edenmemorial.com/obituaries/sofya-orloff
LOCATION:  Forest Avenue  Paramus NJ 
GEO:40.9433614;-74.0512273
END:VEVENT
END:VCALENDAR