BEGIN:VCALENDAR
VERSION:2.0
PRODID:-//Tukios.com/
BEGIN:VEVENT
UID:c545f6a1-a519-4780-b899-22f1500ec84d@www.edenmemorial.com
DTSTAMP:20260423T223001Z
DTSTART:20260424T171500Z
DTEND:20260424T181500Z
SUMMARY:Funeral Service
DESCRIPTION:
URL:https://www.edenmemorial.com/obituaries/peter-holzer
LOCATION:  Forest Avenue  Paramus NJ 
GEO:40.9433614;-74.0512273
END:VEVENT
END:VCALENDAR